BEGIN:VCALENDAR
VERSION:2.0
PRODID:-//TREEADS Project - ECPv6.2.8.2//NONSGML v1.0//EN
CALSCALE:GREGORIAN
METHOD:PUBLISH
X-WR-CALNAME:TREEADS Project
X-ORIGINAL-URL:https://treeads-project.eu
X-WR-CALDESC:Events for TREEADS Project
REFRESH-INTERVAL;VALUE=DURATION:PT1H
X-Robots-Tag:noindex
X-PUBLISHED-TTL:PT1H
BEGIN:VTIMEZONE
TZID:UTC
BEGIN:STANDARD
TZOFFSETFROM:+0000
TZOFFSETTO:+0000
TZNAME:UTC
DTSTART:20220101T000000
END:STANDARD
END:VTIMEZONE
BEGIN:VEVENT
DTSTART;VALUE=DATE:20220221
DTEND;VALUE=DATE:20220223
DTSTAMP:20260422T021439
CREATED:20220330T084237Z
LAST-MODIFIED:20240214T101637Z
UID:1521-1645401600-1645574399@treeads-project.eu
SUMMARY:TREEADS Kick-off meeting
DESCRIPTION:The official Kick-Off Meeting of the TREEADS project took place as a virtual event on February 21st and 22nd\, 2022\, with the participation of more than 100 experts coming from around Europe and Taiwan. During the first day\, interesting presentation and fruitful exchange took place on several key issues and activities related to the project management structure and processes; the work foreseen to gain in-depth understanding of the wildfires lifecycle; the organisational\, structural & socio technical factors for TREEADS ecosystem building & modular approach; abd the socio-technological solutions of TREEADS for fire prevention and preparedness as well as fire detection & response. The TREEADS advances on restoration and adaption as well as TREEADS pan-European pilot campaign and impact creation activities were thoroughly discussed during the second day of the meeting. During the coming months\, the 47 international partners of the project will work intensively to gain deep understanding of wildfires lifecycle\, define users’ & technical requirements\, design the framework and prepare for the next deployment phase towards the creation of a holistic technological ecosystem for fire management and sustainable forest management and deliver an impactful\, fully adaptable solution for wildfires prevention\, detection and restoration of environmental disasters.
URL:https://treeads-project.eu/event/treeads-kick-off-meeting/
CATEGORIES:Treeads Events
ATTACH;FMTTYPE=image/jpeg:https://treeads-project.eu/wp-content/uploads/2022/03/ΚοΜ_Photo_01.jpg
END:VEVENT
END:VCALENDAR